BEGIN:VCALENDAR
VERSION:2.0
PRODID:https://github.com/derhansen/sf_event_mgt
METHOD:PUBLISH
BEGIN:VEVENT
UID:724-1975@musikschule.neuss.de
CLASS: PUBLIC
SUMMARY:Recorder rarities
DESCRIPTION:Das Konzert mit originaler Musik für Blockflöte des 20. und 21.
  Jahrhunderts präsentiert echte Raritäten. Die Musiker*innen bringen selten
  gehörte Werke, europäische Uraufführungen sowie weitere spannende Premiere
 n auf die Bühne. Ensembles in unterschiedlichen Besetzungen werden teils vo
 n Klavier begleitet und bieten überraschende Momente zum Schluss. Ein Muss 
 für Liebhaber zeitgenössischer Blockflötenmusik bei freiem Eintritt!
LOCATION:RomaNEum
DTSTAMP:20260326T103843Z
DTSTART:20260709T170000Z
DTEND:20260709T180000Z
END:VEVENT
END:VCALENDAR
