BEGIN:VCALENDAR
VERSION:2.0
PRODID:https://github.com/derhansen/sf_event_mgt
METHOD:PUBLISH
BEGIN:VEVENT
UID:722-1975@musikschule.neuss.de
CLASS: PUBLIC
SUMMARY:Ein Konzert bricht aus - attacca! - Konzerte für junge Ohren
DESCRIPTION:
LOCATION:RomaNEum
DTSTAMP:20260326T102323Z
DTSTART:20260705T130000Z
DTEND:20260705T140000Z
END:VEVENT
END:VCALENDAR
