BEGIN:VCALENDAR
VERSION:2.0
PRODID:https://github.com/derhansen/sf_event_mgt
METHOD:PUBLISH
BEGIN:VEVENT
UID:721-1975@musikschule.neuss.de
CLASS: PUBLIC
SUMMARY:Konzert der JEKI-Orchester
DESCRIPTION:Die Instrumentalschüler*innen des JEKI-Programms versammeln sic
 h voller Begeisterung im Orchester, um gemeinsam fröhliche und beschwingte 
 Musik zur Sommerzeit zu spielen. Es erwarten Sie harmonische Klänge und hei
 tere Melodien. Der Eintritt ist frei.  
LOCATION:RomaNEum
DTSTAMP:20260326T101018Z
DTSTART:20260711T080000Z
DTEND:20260711T110000Z
END:VEVENT
END:VCALENDAR
