BEGIN:VCALENDAR
VERSION:2.0
PRODID:https://github.com/derhansen/sf_event_mgt
METHOD:PUBLISH
BEGIN:VEVENT
UID:719-1975@musikschule.neuss.de
CLASS: PUBLIC
SUMMARY:Pop and Jazz Voices
DESCRIPTION:Ein Konzertabend der Jazz- und Popgesangsklassen von Regina Sch
 mitz. Anne Hartkamp und Eddy Schulz. So vielfältig die Stimmen der Sänger*i
 nnen, so weit wird auch der stilistische Bogen gespannt. Ein Abend mit Über
 raschendem, Stimmungsvollem und Hochkarätigem. Es werden bekannte Pop/Jazz-
 Songs, aber auch eigene Kompositionen präsentiert. Das alles im besonderen 
 Ambiente über den Dächern von Neuss. Der Eintritt ist frei. 
LOCATION:RomaNEum
DTSTAMP:20260326T095710Z
DTSTART:20260701T173000Z
DTEND:20260701T190000Z
END:VEVENT
END:VCALENDAR
