BEGIN:VCALENDAR
VERSION:2.0
PRODID:https://github.com/derhansen/sf_event_mgt
METHOD:PUBLISH
BEGIN:VEVENT
UID:718-1975@musikschule.neuss.de
CLASS: PUBLIC
SUMMARY:Musikalische Erinnerungen an Reinhard Knoll
DESCRIPTION:Reinhard Knoll hat die Musikschule über Jahrzehnte als erfolgre
 icher Leiter und Pädagoge geprägt und zu einer der innovativsten Musikschul
 en in NRW gemacht. Daran erinnern wir mit einem musikalischen Programm aus 
 der ganzen Bandbreite seines Wirkens – von Landesjugendensemble NRW bis hin
  zum Jugendsinfonieorchester der Musikschule. Der Eintritt ist frei, kosten
 lose Einlasskarten können ab dem 4. Mai an der Infotheke im Romaneum abgeho
 lt oder unter musikschule@stadt.neuss reserviert werden.
LOCATION:Zeughaus am Markt
DTSTAMP:20260326T095449Z
DTSTART:20260627T170000Z
DTEND:20260627T190000Z
END:VEVENT
END:VCALENDAR
