BEGIN:VCALENDAR
VERSION:2.0
PRODID:https://github.com/derhansen/sf_event_mgt
METHOD:PUBLISH
BEGIN:VEVENT
UID:717-1975@musikschule.neuss.de
CLASS: PUBLIC
SUMMARY:Bühne frei – Gitarren und mehr
DESCRIPTION:
LOCATION:RomaNEum
DTSTAMP:20260326T094934Z
DTSTART:20260625T170000Z
DTEND:20260625T180000Z
END:VEVENT
END:VCALENDAR
