BEGIN:VCALENDAR
VERSION:2.0
PRODID:https://github.com/derhansen/sf_event_mgt
METHOD:PUBLISH
BEGIN:VEVENT
UID:716-1975@musikschule.neuss.de
CLASS: PUBLIC
SUMMARY:Gitarrenorchester auf der LAGA
DESCRIPTION:Mit Leidenschaft und Feingefühl präsentiert das Gitarrenorchest
 er ein Programm aus Klassik und Romantik. Komponisten wie Leonhard von Call
  und Enrique Granados bringen eine elegante Atmosphäre mit österreichischen
  und spanischen Akzenten.
DTSTAMP:20260326T094729Z
DTSTART:20260623T163000Z
DTEND:20260623T173000Z
END:VEVENT
END:VCALENDAR
