BEGIN:VCALENDAR
VERSION:2.0
PRODID:https://github.com/derhansen/sf_event_mgt
METHOD:PUBLISH
BEGIN:VEVENT
UID:714-1975@musikschule.neuss.de
CLASS: PUBLIC
SUMMARY:Singende Grundschulen auf der LAGA – das große JeKits-Konzert
DESCRIPTION:800 singende JeKits-Kinder der Musikschule auf der Sparkassen-B
 ühne der Landesgartenschau Neuss. Auch in diesem Jahr präsentieren die Zwei
 tklässler aller Neusser Grundschulen ein buntes, vielfältiges Programm auf 
 der großen Bühne. Im Rahmen des landesweiten JeKits-Projektes, das die Musi
 kschule der Stadt Neuss in allen Neusser Grundschulen anbietet, präsentiere
 n die Kinder im großen Chor ihre Lieder. Entsprechend der Anmeldezahlen wer
 den sowohl die Anzahl der Konzerte als auch die genauen Uhrzeiten ab 8. Jun
 i 2026 auf unserer Website bekanntgegeben.
DTSTAMP:20260326T093851Z
DTSTART:20260620T080000Z
DTEND:20260620T130000Z
END:VEVENT
END:VCALENDAR
