BEGIN:VCALENDAR
VERSION:2.0
PRODID:https://github.com/derhansen/sf_event_mgt
METHOD:PUBLISH
BEGIN:VEVENT
UID:715-1975@musikschule.neuss.de
CLASS: PUBLIC
SUMMARY:SINFO!
DESCRIPTION:Das Jugendsinfonieorchester der Musikschule spielt unter der Le
 itung von Ralf Beckers "Leichte Kavallerie" von Franz von Suppè und die unv
 ollendete 3. Sinfonie von Alexander Borodin. Nach der Pause erklingen dann 
 nicht weniger als die "Bilder einer Ausstellung" von Modest Mussorgski. Der
  Eintritt ist frei, Spenden erbeten.
LOCATION:Zeughaus am Markt
DTSTAMP:20260326T094052Z
DTSTART:20260620T173000Z
DTEND:20260620T190000Z
END:VEVENT
END:VCALENDAR
