BEGIN:VCALENDAR
VERSION:2.0
PRODID:https://github.com/derhansen/sf_event_mgt
METHOD:PUBLISH
BEGIN:VEVENT
UID:713-1975@musikschule.neuss.de
CLASS: PUBLIC
SUMMARY:Bühne frei – Blasinstrumente und mehr
DESCRIPTION:
LOCATION:RomaNEum
DTSTAMP:20260326T093223Z
DTSTART:20260618T170000Z
DTEND:20260618T180000Z
END:VEVENT
END:VCALENDAR
