BEGIN:VCALENDAR
VERSION:2.0
PRODID:https://github.com/derhansen/sf_event_mgt
METHOD:PUBLISH
BEGIN:VEVENT
UID:712-1975@musikschule.neuss.de
CLASS: PUBLIC
SUMMARY:Wach - attacca! - Konzerte für junge Ohren
DESCRIPTION:Beim ersten Jugendkonzert der »attacca!«-Reihe übernehmen Schül
 er*innen des Literaturkurses der 12. Klasse der Gesamtschule Norf das Ruder
 : Gemeinsam mit einem Streichquartett der Kammerakademie Neuss entwickeln s
 ie ein Konzert von Grund auf selbst – Thema, Musik, Moderation und szenisch
 e Ideen stammen direkt aus ihrer Feder. Ein kreativer Prozess über das ganz
 e Schuljahr hinweg, der in einer mitreißenden Aufführung für Mitschüler*inn
 en und Publikum mündet. Ein Konzert, das zeigt, wie spannend Musik ganz ver
 schiedener Stile und Epochen sein kann!Der Eintritt ist frei.  
DTSTAMP:20260326T093032Z
DTSTART:20260616T170000Z
DTEND:20260616T180000Z
END:VEVENT
END:VCALENDAR
