BEGIN:VCALENDAR
VERSION:2.0
PRODID:https://github.com/derhansen/sf_event_mgt
METHOD:PUBLISH
BEGIN:VEVENT
UID:711-1975@musikschule.neuss.de
CLASS: PUBLIC
SUMMARY:Die Komponistinnen
DESCRIPTION:Ein besonderer Konzertabend widmet sich ganz den Werken von Kom
 ponistinnen aus verschiedenen Epochen – ein musikalisches Erlebnis voller A
 usdruckskraft, Vielfalt und überraschender Klangfarben, präsentiert von Sch
 ülerinnen und Schüler der Musikschule. Der Eintritt ist frei.
LOCATION:RomaNEum
DTSTAMP:20260326T092642Z
DTSTART:20260616T170000Z
DTEND:20260616T180000Z
END:VEVENT
END:VCALENDAR
