BEGIN:VCALENDAR
VERSION:2.0
PRODID:https://github.com/derhansen/sf_event_mgt
METHOD:PUBLISH
BEGIN:VEVENT
UID:710-1975@musikschule.neuss.de
CLASS: PUBLIC
SUMMARY:Alle auf einen Streich
DESCRIPTION:Von ganz klein bis ganz schön groß – von den Streicherzwergen b
 is zum Jugendsinfonieorchester bieten alle Streichorchester der Musikschule
  ein buntes Konzertprogramm für die ganze Familie. Der Eintritt ist frei. 
LOCATION:Stadthalle
DTSTAMP:20260326T092354Z
DTSTART:20260615T170000Z
DTEND:20260615T183000Z
END:VEVENT
END:VCALENDAR
