BEGIN:VCALENDAR
VERSION:2.0
PRODID:https://github.com/derhansen/sf_event_mgt
METHOD:PUBLISH
BEGIN:VEVENT
UID:709-1975@musikschule.neuss.de
CLASS: PUBLIC
SUMMARY:Venezianischer Glanz - französische Eleganz
DESCRIPTION:Eine musikalische Reise von den Kanälen Venedigs in die Spiegel
 säle Versailles: unser Flötendozent Thomas Wormitt und Yuichi Sasaki präsen
 tieren Meisterwerke für Flöte und Laute. Im Venedig des 16. Jahrhunderts bl
 ühte die Kunst der Diminution - virtuose Verzierungen über bekannte Melodie
 n, die den Klang der Serenissima widerspiegeln. Madrigale und Tanzmusik die
 ser Zeit lassen die prachtvolle Atmosphäre der Lagunenstadt lebendig werden
 . Ein Jahrhundert später transformierte Lully am Hof Ludwigs XIV. die itali
 enische Inspiration in französische Rafinesse. Airs und elegante Suiten von
  de la Barre und de Visée verkörpern jene höfische Kultur, in der aus impro
 visatorischer Freiheit strenge Form wurde - ein Dialog zwischen mediterrane
 r Spontaneität und französischer Noblesse. Der Eintritt ist frei.
LOCATION:RomaNEum
DTSTAMP:20260326T092021Z
DTSTART:20260614T090000Z
DTEND:20260614T100000Z
END:VEVENT
END:VCALENDAR
