BEGIN:VCALENDAR
VERSION:2.0
PRODID:https://github.com/derhansen/sf_event_mgt
METHOD:PUBLISH
BEGIN:VEVENT
UID:708-1975@musikschule.neuss.de
CLASS: PUBLIC
SUMMARY:Tag der offenen Tür
DESCRIPTION:Zwischen 14 und 18 Uhr können auf drei Etagen jede Menge Instru
 mente ausprobiert werden und Interessierte haben die Möglichkeit sich über 
 das vielfältige Unterrichtsangebot der Musikschule zu informieren. Außerdem
  wird es ein attraktives Programm mit Live-Musik geben. Für Kaffee und Kuch
 en sorgt der Förderverein. Der Eintritt ist frei. 
LOCATION:RomaNEum
DTSTAMP:20260326T091735Z
DTSTART:20260613T120000Z
DTEND:20260613T160000Z
END:VEVENT
END:VCALENDAR
