BEGIN:VCALENDAR
VERSION:2.0
PRODID:https://github.com/derhansen/sf_event_mgt
METHOD:PUBLISH
BEGIN:VEVENT
UID:707-1975@musikschule.neuss.de
CLASS: PUBLIC
SUMMARY:Bühne frei – Tasten und mehr
DESCRIPTION:
LOCATION:RomaNEum
DTSTAMP:20260326T110910Z
DTSTART:20260611T170000Z
DTEND:20260611T180000Z
END:VEVENT
END:VCALENDAR
