BEGIN:VCALENDAR
VERSION:2.0
PRODID:https://github.com/derhansen/sf_event_mgt
METHOD:PUBLISH
BEGIN:VEVENT
UID:706-1975@musikschule.neuss.de
CLASS: PUBLIC
SUMMARY:Bandfestival
DESCRIPTION:Die Bands aus dem Rock/Pop-Bereich sowie den Bandkooperationen 
 des Gymnasium Norf, Marie Curie Gymnasium und der Gesamtschule an der Erft 
 treffen sich zu einem kleinen Festival, um den Vorplatz wieder einmal „zum 
 Kochen“ zu bringen. Mehr oder weniger bekannte Songs, authentisch und außer
 gewöhnlich präsentiert, ein toller Sound und gute Stimmung werden für den e
 ntsprechenden Erfolg des Konzerts sorgen. Der Eintritt ist frei. 
LOCATION:Vorplatz am RomaNEum
DTSTAMP:20260326T084558Z
DTSTART:20260609T163000Z
DTEND:20260609T193000Z
END:VEVENT
END:VCALENDAR
