BEGIN:VCALENDAR
VERSION:2.0
PRODID:https://github.com/derhansen/sf_event_mgt
METHOD:PUBLISH
BEGIN:VEVENT
UID:704-1975@musikschule.neuss.de
CLASS: PUBLIC
SUMMARY:Sommerkonzert der Nachwuchsorchester
DESCRIPTION:Die Nachwuchsorchester Crescendo und Concerto gestalten ein abw
 echslungsreiches Programm von der Renaissance bis zur Moderne – mit Ravels 
 Boléro, der Méditation aus Thaïs, Melodien aus dem Barbier von Sevilla sowi
 e bekannten Werken wie Finlandia, dem Schostakowitsch-Walzer und Bella Ciao
 . Solistische Highlights sorgen für besondere musikalische Momente. Der Ein
 tritt ist frei.
LOCATION:Zeughaus am Markt
DTSTAMP:20260325T112204Z
DTSTART:20260602T170000Z
DTEND:20260602T180000Z
END:VEVENT
END:VCALENDAR
