BEGIN:VCALENDAR
VERSION:2.0
PRODID:https://github.com/derhansen/sf_event_mgt
METHOD:PUBLISH
BEGIN:VEVENT
UID:705-1975@musikschule.neuss.de
CLASS: PUBLIC
SUMMARY:Phil´s Flying Axes
DESCRIPTION:In seinem Kern besteht dieses außergewöhnliche Gitarren-Ensembl
 e der Musikschule der Stadt Neuss nun seit über 25 Jahren. Dank der Individ
 ualität der Mitglieder und spezieller Arrangiertechniken vereint das Ensemb
 le mit seiner Musik Elemente aus Jazz, Blues, Rock und Latin zu einem aufre
 genden neuen Sound mit einzigartigen Gitarren-Arrangements und wunderschöne
 n Kompositionen.
DTSTAMP:20260326T083826Z
DTSTART:20260602T173000Z
DTEND:20260602T190000Z
END:VEVENT
END:VCALENDAR
