BEGIN:VCALENDAR
VERSION:2.0
PRODID:https://github.com/derhansen/sf_event_mgt
METHOD:PUBLISH
BEGIN:VEVENT
UID:703-1975@musikschule.neuss.de
CLASS: PUBLIC
SUMMARY:A.M.O.S. and friends - Irish & Scottish Folk
DESCRIPTION:Musik, die ins Blut geht und von Liebe, Schmerz und Heimat erzä
 hlt. Musik, die zum Mitmachen, Zuhören und Nachdenken einlädt. Jubiläumskon
 zert: 10 Jahre Saitenrisse, 1000 unvergessliche Momente. Ceal míle faílte!E
 intritt frei, Spenden willkommen. Kostenlose Einlasskarten können ab dem 27
 . April an der Infotheke im Romaneum abgeholt oder unter chilgers@web.de re
 serviert werden. 
LOCATION:RomaNEum
DTSTAMP:20260325T082202Z
DTSTART:20260530T150000Z
DTEND:20260530T163000Z
END:VEVENT
END:VCALENDAR
