BEGIN:VCALENDAR
VERSION:2.0
PRODID:https://github.com/derhansen/sf_event_mgt
METHOD:PUBLISH
BEGIN:VEVENT
UID:702-1975@musikschule.neuss.de
CLASS: PUBLIC
SUMMARY:Bühne frei – Blockflöten und mehr
DESCRIPTION:
LOCATION:RomaNEum
DTSTAMP:20260324T124910Z
DTSTART:20260528T170000Z
DTEND:20260528T180000Z
END:VEVENT
END:VCALENDAR
