BEGIN:VCALENDAR
VERSION:2.0
PRODID:https://github.com/derhansen/sf_event_mgt
METHOD:PUBLISH
BEGIN:VEVENT
UID:700-1975@musikschule.neuss.de
CLASS: PUBLIC
SUMMARY:Barock meets Summer
DESCRIPTION:Ein sommerlicher Abend voller barocker Meisterwerke! Junge Musi
 ker*innen bringen die virtuosen Werke von Bach, Telemann, Vivaldi und ander
 en Komponisten zum Leuchten. Lassen Sie sich von ihrer Spielfreude begeiste
 rn und genießen Sie die lebendigen Klänge des Barocks in sommerlicher Atmos
 phäre. Der Eintritt ist frei. 
LOCATION:RomaNEum
DTSTAMP:20260324T115054Z
DTSTART:20260512T170000Z
DTEND:20260512T180000Z
END:VEVENT
END:VCALENDAR
